BEGIN:VCALENDAR
VERSION:2.0
PRODID:-//IBEW 702 - ECPv6.15.20//NONSGML v1.0//EN
CALSCALE:GREGORIAN
METHOD:PUBLISH
X-ORIGINAL-URL:https://ibew702.org
X-WR-CALDESC:Events for IBEW 702
REFRESH-INTERVAL;VALUE=DURATION:PT1H
X-Robots-Tag:noindex
X-PUBLISHED-TTL:PT1H
BEGIN:VTIMEZONE
TZID:America/Chicago
BEGIN:DAYLIGHT
TZOFFSETFROM:-0600
TZOFFSETTO:-0500
TZNAME:CDT
DTSTART:20250309T080000
END:DAYLIGHT
BEGIN:STANDARD
TZOFFSETFROM:-0500
TZOFFSETTO:-0600
TZNAME:CST
DTSTART:20251102T070000
END:STANDARD
BEGIN:DAYLIGHT
TZOFFSETFROM:-0600
TZOFFSETTO:-0500
TZNAME:CDT
DTSTART:20260308T080000
END:DAYLIGHT
BEGIN:STANDARD
TZOFFSETFROM:-0500
TZOFFSETTO:-0600
TZNAME:CST
DTSTART:20261101T070000
END:STANDARD
BEGIN:DAYLIGHT
TZOFFSETFROM:-0600
TZOFFSETTO:-0500
TZNAME:CDT
DTSTART:20270314T080000
END:DAYLIGHT
BEGIN:STANDARD
TZOFFSETFROM:-0500
TZOFFSETTO:-0600
TZNAME:CST
DTSTART:20271107T070000
END:STANDARD
END:VTIMEZONE
BEGIN:VEVENT
DTSTART;TZID=America/Chicago:20260721T170000
DTEND;TZID=America/Chicago:20260721T174500
DTSTAMP:20260421T124652
CREATED:20200708T214112Z
LAST-MODIFIED:20200708T224033Z
UID:4266-1784653200-1784655900@ibew702.org
SUMMARY:Beardstown Unit Executive Committee Meeting
DESCRIPTION:The Beardstown Unit Executive Committee meeting is held for the specific properties that fall under the Beardstown Unit description in the Local 702 Bylaws. \nMeetings are attended by the Officers of the Beardstown Unit and are held on the 3rd Tuesday of each month\, beginning at 5:00 p.m. and are held at the UFCW Hall on Arenzville Road.
URL:https://ibew702.org/event/beardstown-unit-executive-committee-meeting-159/
END:VEVENT
BEGIN:VEVENT
DTSTART;TZID=America/Chicago:20260721T180000
DTEND;TZID=America/Chicago:20260721T193000
DTSTAMP:20260421T124652
CREATED:20200708T214107Z
LAST-MODIFIED:20200708T224028Z
UID:4265-1784656800-1784662200@ibew702.org
SUMMARY:Beardstown Unit Meeting
DESCRIPTION:General Membership meeting for any and all IBEW Local 702 members\, but specifically called through the Local 702 Bylaws for the members employed at properties that fall under Beardstown Unit description. \nMeetings are held on the 3rd Tuesday of each month\, beginning at 6:00 p.m. and are held at the UFCW Hall on Arenzville Road.
URL:https://ibew702.org/event/beardstown-unit-meeting-159/
END:VEVENT
END:VCALENDAR