BEGIN:VCALENDAR
VERSION:2.0
PRODID:-//IBEW 702 - ECPv6.15.20//NONSGML v1.0//EN
CALSCALE:GREGORIAN
METHOD:PUBLISH
X-ORIGINAL-URL:https://ibew702.org
X-WR-CALDESC:Events for IBEW 702
REFRESH-INTERVAL;VALUE=DURATION:PT1H
X-Robots-Tag:noindex
X-PUBLISHED-TTL:PT1H
BEGIN:VTIMEZONE
TZID:America/Chicago
BEGIN:DAYLIGHT
TZOFFSETFROM:-0600
TZOFFSETTO:-0500
TZNAME:CDT
DTSTART:20250309T080000
END:DAYLIGHT
BEGIN:STANDARD
TZOFFSETFROM:-0500
TZOFFSETTO:-0600
TZNAME:CST
DTSTART:20251102T070000
END:STANDARD
BEGIN:DAYLIGHT
TZOFFSETFROM:-0600
TZOFFSETTO:-0500
TZNAME:CDT
DTSTART:20260308T080000
END:DAYLIGHT
BEGIN:STANDARD
TZOFFSETFROM:-0500
TZOFFSETTO:-0600
TZNAME:CST
DTSTART:20261101T070000
END:STANDARD
BEGIN:DAYLIGHT
TZOFFSETFROM:-0600
TZOFFSETTO:-0500
TZNAME:CDT
DTSTART:20270314T080000
END:DAYLIGHT
BEGIN:STANDARD
TZOFFSETFROM:-0500
TZOFFSETTO:-0600
TZNAME:CST
DTSTART:20271107T070000
END:STANDARD
END:VTIMEZONE
BEGIN:VEVENT
DTSTART;TZID=America/Chicago:20261001T173000
DTEND;TZID=America/Chicago:20261001T193000
DTSTAMP:20260421T172905
CREATED:20200708T214037Z
LAST-MODIFIED:20200708T224003Z
UID:4221-1790875800-1790883000@ibew702.org
SUMMARY:Sikeston Unit Executive Committee Meeting
DESCRIPTION:The Sikeston Unit Executive Committee meeting is held for the specific properties that fall under the Sikeston Unit description in the Local 702 Bylaws. \nMeetings are attended by the Officers of the Sikeston Unit and are held on the 1st Thursday of each month\, beginning at 5:30 p.m. and are held at the Miner Convention Center\, 2610 East Malone Avenue\, in Miner\, MO.
URL:https://ibew702.org/event/sikeston-unit-executive-committee-meeting-155/
END:VEVENT
END:VCALENDAR