BEGIN:VCALENDAR
VERSION:2.0
PRODID:-//IBEW 702 - ECPv6.15.20//NONSGML v1.0//EN
CALSCALE:GREGORIAN
METHOD:PUBLISH
X-WR-CALNAME:IBEW 702
X-ORIGINAL-URL:https://ibew702.org
X-WR-CALDESC:Events for IBEW 702
REFRESH-INTERVAL;VALUE=DURATION:PT1H
X-Robots-Tag:noindex
X-PUBLISHED-TTL:PT1H
BEGIN:VTIMEZONE
TZID:America/Chicago
BEGIN:DAYLIGHT
TZOFFSETFROM:-0600
TZOFFSETTO:-0500
TZNAME:CDT
DTSTART:20260308T080000
END:DAYLIGHT
BEGIN:STANDARD
TZOFFSETFROM:-0500
TZOFFSETTO:-0600
TZNAME:CST
DTSTART:20261101T070000
END:STANDARD
BEGIN:DAYLIGHT
TZOFFSETFROM:-0600
TZOFFSETTO:-0500
TZNAME:CDT
DTSTART:20270314T080000
END:DAYLIGHT
BEGIN:STANDARD
TZOFFSETFROM:-0500
TZOFFSETTO:-0600
TZNAME:CST
DTSTART:20271107T070000
END:STANDARD
BEGIN:DAYLIGHT
TZOFFSETFROM:-0600
TZOFFSETTO:-0500
TZNAME:CDT
DTSTART:20280312T080000
END:DAYLIGHT
BEGIN:STANDARD
TZOFFSETFROM:-0500
TZOFFSETTO:-0600
TZNAME:CST
DTSTART:20281105T070000
END:STANDARD
END:VTIMEZONE
BEGIN:VEVENT
DTSTART;TZID=America/Chicago:20270101T193000
DTEND;TZID=America/Chicago:20270101T210000
DTSTAMP:20260421T214908
CREATED:20200708T213956Z
LAST-MODIFIED:20200708T223929Z
UID:4163-1798831800-1798837200@ibew702.org
SUMMARY:West Frankfort Union Meeting
DESCRIPTION:General Membership meeting for any and all IBEW Local 702 members. \nRetirees and Travelers are also welcome to attend. \nMeetings are held on the 1st Friday of every month\, beginning at 7:30 p.m. @ IBEW Local Union No. 702\, located at 106 N. Monroe\, West Frankfort\, IL.
URL:https://ibew702.org/event/west-frankfort-union-meeting-148/
END:VEVENT
END:VCALENDAR