BEGIN:VCALENDAR
VERSION:2.0
PRODID:-//IBEW 702 - ECPv6.15.20//NONSGML v1.0//EN
CALSCALE:GREGORIAN
METHOD:PUBLISH
X-ORIGINAL-URL:https://ibew702.org
X-WR-CALDESC:Events for IBEW 702
REFRESH-INTERVAL;VALUE=DURATION:PT1H
X-Robots-Tag:noindex
X-PUBLISHED-TTL:PT1H
BEGIN:VTIMEZONE
TZID:America/Chicago
BEGIN:DAYLIGHT
TZOFFSETFROM:-0600
TZOFFSETTO:-0500
TZNAME:CDT
DTSTART:20260308T080000
END:DAYLIGHT
BEGIN:STANDARD
TZOFFSETFROM:-0500
TZOFFSETTO:-0600
TZNAME:CST
DTSTART:20261101T070000
END:STANDARD
BEGIN:DAYLIGHT
TZOFFSETFROM:-0600
TZOFFSETTO:-0500
TZNAME:CDT
DTSTART:20270314T080000
END:DAYLIGHT
BEGIN:STANDARD
TZOFFSETFROM:-0500
TZOFFSETTO:-0600
TZNAME:CST
DTSTART:20271107T070000
END:STANDARD
BEGIN:DAYLIGHT
TZOFFSETFROM:-0600
TZOFFSETTO:-0500
TZNAME:CDT
DTSTART:20280312T080000
END:DAYLIGHT
BEGIN:STANDARD
TZOFFSETFROM:-0500
TZOFFSETTO:-0600
TZNAME:CST
DTSTART:20281105T070000
END:STANDARD
END:VTIMEZONE
BEGIN:VEVENT
DTSTART;TZID=America/Chicago:20271001T193000
DTEND;TZID=America/Chicago:20271001T210000
DTSTAMP:20260424T031804
CREATED:20200708T213730Z
LAST-MODIFIED:20200708T223747Z
UID:3984-1822419000-1822424400@ibew702.org
SUMMARY:West Frankfort Union Meeting
DESCRIPTION:General Membership meeting for any and all IBEW Local 702 members. \nRetirees and Travelers are also welcome to attend. \nMeetings are held on the 1st Friday of every month\, beginning at 7:30 p.m. @ IBEW Local Union No. 702\, located at 106 N. Monroe\, West Frankfort\, IL.
URL:https://ibew702.org/event/west-frankfort-union-meeting-139/
END:VEVENT
BEGIN:VEVENT
DTSTART;TZID=America/Chicago:20271005T170000
DTEND;TZID=America/Chicago:20271005T174500
DTSTAMP:20260424T031805
CREATED:20200708T213730Z
LAST-MODIFIED:20200708T223747Z
UID:3983-1822755600-1822758300@ibew702.org
SUMMARY:Mattoon Unit Executive Committee Meeting
DESCRIPTION:The Mattoon Unit Executive Committee meeting is held for the specific properties that fall under the Mattoon Unit description in the Local 702 Bylaws. \nMeetings are attended by the Officers of the Mattoon Unit and are held on the 1st Tuesday of each month\, beginning at 6:00 p.m. and are held at the V.F.W. Post 4325\, located at 1220 South 19th Street in Mattoon\, IL 61938.
URL:https://ibew702.org/event/mattoon-unit-executive-committee-meeting-143/
END:VEVENT
BEGIN:VEVENT
DTSTART;TZID=America/Chicago:20271005T180000
DTEND;TZID=America/Chicago:20271005T193000
DTSTAMP:20260424T031805
CREATED:20200708T213729Z
LAST-MODIFIED:20200708T223747Z
UID:3982-1822759200-1822764600@ibew702.org
SUMMARY:Mattoon Unit Meeting
DESCRIPTION:General Membership meeting for any and all IBEW Local 702 members\, but specifically called through the Local 702 Bylaws for the members employed at properties that fall under Mattoon Unit description. \nMeetings are held on the 1st Tuesday of each month\, beginning at 7:00 p.m. and are held at the V.F.W. Post 4325 located at 1220 South 19th Street\, Mattoon\, IL 61938.
URL:https://ibew702.org/event/mattoon-unit-meeting-142/
END:VEVENT
BEGIN:VEVENT
DTSTART;TZID=America/Chicago:20271007T173000
DTEND;TZID=America/Chicago:20271007T193000
DTSTAMP:20260424T031805
CREATED:20200708T213729Z
LAST-MODIFIED:20200708T223746Z
UID:3981-1822930200-1822937400@ibew702.org
SUMMARY:Sikeston Unit Executive Committee Meeting
DESCRIPTION:The Sikeston Unit Executive Committee meeting is held for the specific properties that fall under the Sikeston Unit description in the Local 702 Bylaws. \nMeetings are attended by the Officers of the Sikeston Unit and are held on the 1st Thursday of each month\, beginning at 5:30 p.m. and are held at the Miner Convention Center\, 2610 East Malone Avenue\, in Miner\, MO.
URL:https://ibew702.org/event/sikeston-unit-executive-committee-meeting-143/
END:VEVENT
BEGIN:VEVENT
DTSTART;TZID=America/Chicago:20271011T190000
DTEND;TZID=America/Chicago:20271011T203000
DTSTAMP:20260424T031805
CREATED:20200708T213726Z
LAST-MODIFIED:20200708T223741Z
UID:3980-1823281200-1823286600@ibew702.org
SUMMARY:Evansville Unit Meeting
DESCRIPTION:General Membership meeting for any and all IBEW Local 702 members\, but specifically called through the Local 702 Bylaws for the members employed at properties that fall under Evansville Unit description. \nMeetings are held on the 2nd Monday of each month\, beginning at 7:00 p.m. and are held at the C.K. Newsome Community Center in Evansville\, IN.
URL:https://ibew702.org/event/evansville-unit-meeting-140/
END:VEVENT
BEGIN:VEVENT
DTSTART;TZID=America/Chicago:20271012T133000
DTEND;TZID=America/Chicago:20271012T150000
DTSTAMP:20260424T031805
CREATED:20200708T213726Z
LAST-MODIFIED:20200708T223741Z
UID:3979-1823347800-1823353200@ibew702.org
SUMMARY:Newton Unit Executive Committee Meeting
DESCRIPTION:The Newton Unit Executive Committee meeting is held for the specific properties that fall under the Newton Unit description in the Local 702 Bylaws. \nMeetings are attended by the Officers of the Newton Unit and are held on the 2nd Tuesday of each month\, beginning at 1:30 p.m. and are held at the Muddy Saloon\, 10045 North 300th Street\, in Wheeler\, IL.
URL:https://ibew702.org/event/newton-unit-executive-committee-meeting-143/
END:VEVENT
BEGIN:VEVENT
DTSTART;TZID=America/Chicago:20271012T153000
DTEND;TZID=America/Chicago:20271012T173000
DTSTAMP:20260424T031805
CREATED:20200708T213726Z
LAST-MODIFIED:20200708T223741Z
UID:3978-1823355000-1823362200@ibew702.org
SUMMARY:Newton Unit Meeting
DESCRIPTION:General Membership meeting for any and all IBEW Local 702 members\, but specifically called through the Local 702 Bylaws for the members employed at properties that fall under Newton Unit description. \nMeetings are held on the 2nd Tuesday of each month\, beginning at 3:30 p.m. and are held at the Muddy Saloon\, 10045 North 300th Street\, in Wheeler\, IL.
URL:https://ibew702.org/event/newton-unit-meeting-142/
END:VEVENT
BEGIN:VEVENT
DTSTART;TZID=America/Chicago:20271013T100000
DTEND;TZID=America/Chicago:20271013T113000
DTSTAMP:20260424T031805
CREATED:20200708T213725Z
LAST-MODIFIED:20200708T223741Z
UID:3977-1823421600-1823427000@ibew702.org
SUMMARY:Egyptian Building Trades meeting
DESCRIPTION:This is the monthly meeting of the Egyptian Building Trades. It is usually held on the second Wednesday of every month at IBEW Local Union No. 702 Hall\, located at 106 N. Monroe in West Frankfort\, IL.
URL:https://ibew702.org/event/egyptian-building-trades-meeting-119/
END:VEVENT
BEGIN:VEVENT
DTSTART;TZID=America/Chicago:20271014T183000
DTEND;TZID=America/Chicago:20271014T191500
DTSTAMP:20260424T031805
CREATED:20200708T213725Z
LAST-MODIFIED:20200708T223741Z
UID:3976-1823538600-1823541300@ibew702.org
SUMMARY:Pana Unit Executive Committee Meeting
DESCRIPTION:The Pana Unit Executive Committee meeting is held for the specific properties that fall under the Pana Unit description in the Local 702 Bylaws. \nMeetings are attended by the Officers of the Pana Unit and are held on the 2nd Thursday of each month\, beginning at 6:30 p.m. and are held at the Boy Scout Cabin in Shelbyville\, IL.
URL:https://ibew702.org/event/pana-unit-executive-committee-meeting-143/
END:VEVENT
BEGIN:VEVENT
DTSTART;TZID=America/Chicago:20271014T183000
DTEND;TZID=America/Chicago:20271014T193000
DTSTAMP:20260424T031805
CREATED:20200708T213722Z
LAST-MODIFIED:20200708T223738Z
UID:3975-1823538600-1823542200@ibew702.org
SUMMARY:Southern Illinois Central Labor Council Meeting
DESCRIPTION:The regular scheduled meeting of the Southern Illinois Central Labor Council meeting takes place at IBEW Local Union No. 702\, located at 106 N. Monroe in West Frankfort\, IL.
URL:https://ibew702.org/event/southern-illinois-central-labor-council-meeting-143/
END:VEVENT
BEGIN:VEVENT
DTSTART;TZID=America/Chicago:20271014T183000
DTEND;TZID=America/Chicago:20271014T203000
DTSTAMP:20260424T031805
CREATED:20200708T213721Z
LAST-MODIFIED:20200708T223737Z
UID:3973-1823538600-1823545800@ibew702.org
SUMMARY:Sikeston Unit Meeting
DESCRIPTION:General Membership meeting for any and all IBEW Local 702 members\, but specifically called through the Local 702 Bylaws for the members employed at properties that fall under the Sikeston Unit description. \nMeetings are held on the 2nd Thursday of each month\, beginning at 6:30 p.m. and are held at the Miner Convention Center\, 2610 East Malone Avenue\, in Miner\, MO.
URL:https://ibew702.org/event/sikeston-unit-meeting-140/
END:VEVENT
BEGIN:VEVENT
DTSTART;TZID=America/Chicago:20271014T193000
DTEND;TZID=America/Chicago:20271014T203000
DTSTAMP:20260424T031805
CREATED:20200708T213721Z
LAST-MODIFIED:20200708T223737Z
UID:3974-1823542200-1823545800@ibew702.org
SUMMARY:Pana Unit Meeting
DESCRIPTION:General Membership meeting for any and all IBEW Local 702 members\, but specifically called through the Local 702 Bylaws for the members employed at properties that fall under the Pana Unit description. \nMeetings are held on the 2nd Thursday of each month\, beginning at 7:30 p.m. and are held at the Boy Scout Cabin in Shelbyville\, IL.
URL:https://ibew702.org/event/pana-unit-meeting-142/
END:VEVENT
BEGIN:VEVENT
DTSTART;TZID=America/Chicago:20271015T080000
DTEND;TZID=America/Chicago:20271015T120000
DTSTAMP:20260424T031805
CREATED:20200708T213721Z
LAST-MODIFIED:20200708T223737Z
UID:3972-1823587200-1823601600@ibew702.org
SUMMARY:West Frankfort Executive Board Meeting
DESCRIPTION:This is the regular monthly meeting of the Local Union?s Executive Board. \nMeetings are held on the 3rd Friday of every month\, beginning at 8:00 a.m. @ IBEW Local Union No. 702\, located at 106 N. Monroe\, West Frankfort\, IL.
URL:https://ibew702.org/event/west-frankfort-executive-board-meeting-143/
END:VEVENT
BEGIN:VEVENT
DTSTART;TZID=America/Chicago:20271019T170000
DTEND;TZID=America/Chicago:20271019T174500
DTSTAMP:20260424T031805
CREATED:20200708T213720Z
LAST-MODIFIED:20200708T223737Z
UID:3971-1823965200-1823967900@ibew702.org
SUMMARY:Beardstown Unit Executive Committee Meeting
DESCRIPTION:The Beardstown Unit Executive Committee meeting is held for the specific properties that fall under the Beardstown Unit description in the Local 702 Bylaws. \nMeetings are attended by the Officers of the Beardstown Unit and are held on the 3rd Tuesday of each month\, beginning at 5:00 p.m. and are held at the UFCW Hall on Arenzville Road.
URL:https://ibew702.org/event/beardstown-unit-executive-committee-meeting-144/
END:VEVENT
BEGIN:VEVENT
DTSTART;TZID=America/Chicago:20271019T180000
DTEND;TZID=America/Chicago:20271019T193000
DTSTAMP:20260424T031805
CREATED:20200708T213716Z
LAST-MODIFIED:20200708T223735Z
UID:3965-1823968800-1823974200@ibew702.org
SUMMARY:Beardstown Unit Meeting
DESCRIPTION:General Membership meeting for any and all IBEW Local 702 members\, but specifically called through the Local 702 Bylaws for the members employed at properties that fall under Beardstown Unit description. \nMeetings are held on the 3rd Tuesday of each month\, beginning at 6:00 p.m. and are held at the UFCW Hall on Arenzville Road.
URL:https://ibew702.org/event/beardstown-unit-meeting-144/
END:VEVENT
BEGIN:VEVENT
DTSTART;TZID=America/Chicago:20271025T170000
DTEND;TZID=America/Chicago:20271025T193000
DTSTAMP:20260424T031805
CREATED:20200708T213716Z
LAST-MODIFIED:20200708T223735Z
UID:3964-1824483600-1824492600@ibew702.org
SUMMARY:Evansville Unit Executive Committee Meeting
DESCRIPTION:The Evansville Unit Executive Committee meeting is held for the specific properties that fall under the Evansville Unit description in the Local 702 Bylaws. \nMeetings are attended by the Officers of the Evansville Unit and are held on the 4th Monday of each month\, beginning at 5:00 p.m. and are held at the CLC Office in Evansville\, IN.
URL:https://ibew702.org/event/evansville-unit-executive-committee-meeting-137/
END:VEVENT
END:VCALENDAR