BEGIN:VCALENDAR
VERSION:2.0
PRODID:-//IBEW 702 - ECPv6.15.20//NONSGML v1.0//EN
CALSCALE:GREGORIAN
METHOD:PUBLISH
X-ORIGINAL-URL:https://ibew702.org
X-WR-CALDESC:Events for IBEW 702
REFRESH-INTERVAL;VALUE=DURATION:PT1H
X-Robots-Tag:noindex
X-PUBLISHED-TTL:PT1H
BEGIN:VTIMEZONE
TZID:America/Chicago
BEGIN:DAYLIGHT
TZOFFSETFROM:-0600
TZOFFSETTO:-0500
TZNAME:CDT
DTSTART:20270314T080000
END:DAYLIGHT
BEGIN:STANDARD
TZOFFSETFROM:-0500
TZOFFSETTO:-0600
TZNAME:CST
DTSTART:20271107T070000
END:STANDARD
BEGIN:DAYLIGHT
TZOFFSETFROM:-0600
TZOFFSETTO:-0500
TZNAME:CDT
DTSTART:20280312T080000
END:DAYLIGHT
BEGIN:STANDARD
TZOFFSETFROM:-0500
TZOFFSETTO:-0600
TZNAME:CST
DTSTART:20281105T070000
END:STANDARD
BEGIN:DAYLIGHT
TZOFFSETFROM:-0600
TZOFFSETTO:-0500
TZNAME:CDT
DTSTART:20290311T080000
END:DAYLIGHT
BEGIN:STANDARD
TZOFFSETFROM:-0500
TZOFFSETTO:-0600
TZNAME:CST
DTSTART:20291104T070000
END:STANDARD
END:VTIMEZONE
BEGIN:VEVENT
DTSTART;TZID=America/Chicago:20280104T170000
DTEND;TZID=America/Chicago:20280104T174500
DTSTAMP:20260424T084104
CREATED:20200708T213620Z
LAST-MODIFIED:20200708T223711Z
UID:3926-1830618000-1830620700@ibew702.org
SUMMARY:Mattoon Unit Executive Committee Meeting
DESCRIPTION:The Mattoon Unit Executive Committee meeting is held for the specific properties that fall under the Mattoon Unit description in the Local 702 Bylaws. \nMeetings are attended by the Officers of the Mattoon Unit and are held on the 1st Tuesday of each month\, beginning at 6:00 p.m. and are held at the V.F.W. Post 4325\, located at 1220 South 19th Street in Mattoon\, IL 61938.
URL:https://ibew702.org/event/mattoon-unit-executive-committee-meeting-140/
END:VEVENT
BEGIN:VEVENT
DTSTART;TZID=America/Chicago:20280104T180000
DTEND;TZID=America/Chicago:20280104T193000
DTSTAMP:20260424T084104
CREATED:20200708T213614Z
LAST-MODIFIED:20200708T223710Z
UID:3925-1830621600-1830627000@ibew702.org
SUMMARY:Mattoon Unit Meeting
DESCRIPTION:General Membership meeting for any and all IBEW Local 702 members\, but specifically called through the Local 702 Bylaws for the members employed at properties that fall under Mattoon Unit description. \nMeetings are held on the 1st Tuesday of each month\, beginning at 7:00 p.m. and are held at the V.F.W. Post 4325 located at 1220 South 19th Street\, Mattoon\, IL 61938.
URL:https://ibew702.org/event/mattoon-unit-meeting-139/
END:VEVENT
BEGIN:VEVENT
DTSTART;TZID=America/Chicago:20280106T173000
DTEND;TZID=America/Chicago:20280106T193000
DTSTAMP:20260424T084104
CREATED:20200708T213614Z
LAST-MODIFIED:20200708T223710Z
UID:3924-1830792600-1830799800@ibew702.org
SUMMARY:Sikeston Unit Executive Committee Meeting
DESCRIPTION:The Sikeston Unit Executive Committee meeting is held for the specific properties that fall under the Sikeston Unit description in the Local 702 Bylaws. \nMeetings are attended by the Officers of the Sikeston Unit and are held on the 1st Thursday of each month\, beginning at 5:30 p.m. and are held at the Miner Convention Center\, 2610 East Malone Avenue\, in Miner\, MO.
URL:https://ibew702.org/event/sikeston-unit-executive-committee-meeting-140/
END:VEVENT
BEGIN:VEVENT
DTSTART;TZID=America/Chicago:20280107T193000
DTEND;TZID=America/Chicago:20280107T210000
DTSTAMP:20260424T084104
CREATED:20200708T213614Z
LAST-MODIFIED:20200708T223709Z
UID:3923-1830886200-1830891600@ibew702.org
SUMMARY:West Frankfort Union Meeting
DESCRIPTION:General Membership meeting for any and all IBEW Local 702 members. \nRetirees and Travelers are also welcome to attend. \nMeetings are held on the 1st Friday of every month\, beginning at 7:30 p.m. @ IBEW Local Union No. 702\, located at 106 N. Monroe\, West Frankfort\, IL.
URL:https://ibew702.org/event/west-frankfort-union-meeting-136/
END:VEVENT
BEGIN:VEVENT
DTSTART;TZID=America/Chicago:20280110T190000
DTEND;TZID=America/Chicago:20280110T203000
DTSTAMP:20260424T084104
CREATED:20200708T213613Z
LAST-MODIFIED:20200708T223709Z
UID:3922-1831143600-1831149000@ibew702.org
SUMMARY:Evansville Unit Meeting
DESCRIPTION:General Membership meeting for any and all IBEW Local 702 members\, but specifically called through the Local 702 Bylaws for the members employed at properties that fall under Evansville Unit description. \nMeetings are held on the 2nd Monday of each month\, beginning at 7:00 p.m. and are held at the C.K. Newsome Community Center in Evansville\, IN.
URL:https://ibew702.org/event/evansville-unit-meeting-137/
END:VEVENT
BEGIN:VEVENT
DTSTART;TZID=America/Chicago:20280111T133000
DTEND;TZID=America/Chicago:20280111T150000
DTSTAMP:20260424T084104
CREATED:20200708T213613Z
LAST-MODIFIED:20200708T223709Z
UID:3921-1831210200-1831215600@ibew702.org
SUMMARY:Newton Unit Executive Committee Meeting
DESCRIPTION:The Newton Unit Executive Committee meeting is held for the specific properties that fall under the Newton Unit description in the Local 702 Bylaws. \nMeetings are attended by the Officers of the Newton Unit and are held on the 2nd Tuesday of each month\, beginning at 1:30 p.m. and are held at the Muddy Saloon\, 10045 North 300th Street\, in Wheeler\, IL.
URL:https://ibew702.org/event/newton-unit-executive-committee-meeting-140/
END:VEVENT
BEGIN:VEVENT
DTSTART;TZID=America/Chicago:20280111T153000
DTEND;TZID=America/Chicago:20280111T173000
DTSTAMP:20260424T084104
CREATED:20200708T213558Z
LAST-MODIFIED:20200708T223706Z
UID:3920-1831217400-1831224600@ibew702.org
SUMMARY:Newton Unit Meeting
DESCRIPTION:General Membership meeting for any and all IBEW Local 702 members\, but specifically called through the Local 702 Bylaws for the members employed at properties that fall under Newton Unit description. \nMeetings are held on the 2nd Tuesday of each month\, beginning at 3:30 p.m. and are held at the Muddy Saloon\, 10045 North 300th Street\, in Wheeler\, IL.
URL:https://ibew702.org/event/newton-unit-meeting-139/
END:VEVENT
BEGIN:VEVENT
DTSTART;TZID=America/Chicago:20280112T100000
DTEND;TZID=America/Chicago:20280112T113000
DTSTAMP:20260424T084104
CREATED:20200708T213558Z
LAST-MODIFIED:20200708T223706Z
UID:3919-1831284000-1831289400@ibew702.org
SUMMARY:Egyptian Building Trades meeting
DESCRIPTION:This is the monthly meeting of the Egyptian Building Trades. It is usually held on the second Wednesday of every month at IBEW Local Union No. 702 Hall\, located at 106 N. Monroe in West Frankfort\, IL.
URL:https://ibew702.org/event/egyptian-building-trades-meeting-116/
END:VEVENT
BEGIN:VEVENT
DTSTART;TZID=America/Chicago:20280113T183000
DTEND;TZID=America/Chicago:20280113T191500
DTSTAMP:20260424T084104
CREATED:20200708T213558Z
LAST-MODIFIED:20200708T223705Z
UID:3918-1831401000-1831403700@ibew702.org
SUMMARY:Pana Unit Executive Committee Meeting
DESCRIPTION:The Pana Unit Executive Committee meeting is held for the specific properties that fall under the Pana Unit description in the Local 702 Bylaws. \nMeetings are attended by the Officers of the Pana Unit and are held on the 2nd Thursday of each month\, beginning at 6:30 p.m. and are held at the Boy Scout Cabin in Shelbyville\, IL.
URL:https://ibew702.org/event/pana-unit-executive-committee-meeting-140/
END:VEVENT
BEGIN:VEVENT
DTSTART;TZID=America/Chicago:20280113T183000
DTEND;TZID=America/Chicago:20280113T193000
DTSTAMP:20260424T084104
CREATED:20200708T213557Z
LAST-MODIFIED:20200708T223705Z
UID:3917-1831401000-1831404600@ibew702.org
SUMMARY:Southern Illinois Central Labor Council Meeting
DESCRIPTION:The regular scheduled meeting of the Southern Illinois Central Labor Council meeting takes place at IBEW Local Union No. 702\, located at 106 N. Monroe in West Frankfort\, IL.
URL:https://ibew702.org/event/southern-illinois-central-labor-council-meeting-140/
END:VEVENT
BEGIN:VEVENT
DTSTART;TZID=America/Chicago:20280113T183000
DTEND;TZID=America/Chicago:20280113T203000
DTSTAMP:20260424T084104
CREATED:20200708T213507Z
LAST-MODIFIED:20200708T223700Z
UID:3915-1831401000-1831408200@ibew702.org
SUMMARY:Sikeston Unit Meeting
DESCRIPTION:General Membership meeting for any and all IBEW Local 702 members\, but specifically called through the Local 702 Bylaws for the members employed at properties that fall under the Sikeston Unit description. \nMeetings are held on the 2nd Thursday of each month\, beginning at 6:30 p.m. and are held at the Miner Convention Center\, 2610 East Malone Avenue\, in Miner\, MO.
URL:https://ibew702.org/event/sikeston-unit-meeting-137/
END:VEVENT
BEGIN:VEVENT
DTSTART;TZID=America/Chicago:20280113T193000
DTEND;TZID=America/Chicago:20280113T203000
DTSTAMP:20260424T084104
CREATED:20200708T213557Z
LAST-MODIFIED:20200708T223705Z
UID:3916-1831404600-1831408200@ibew702.org
SUMMARY:Pana Unit Meeting
DESCRIPTION:General Membership meeting for any and all IBEW Local 702 members\, but specifically called through the Local 702 Bylaws for the members employed at properties that fall under the Pana Unit description. \nMeetings are held on the 2nd Thursday of each month\, beginning at 7:30 p.m. and are held at the Boy Scout Cabin in Shelbyville\, IL.
URL:https://ibew702.org/event/pana-unit-meeting-139/
END:VEVENT
BEGIN:VEVENT
DTSTART;TZID=America/Chicago:20280118T170000
DTEND;TZID=America/Chicago:20280118T174500
DTSTAMP:20260424T084104
CREATED:20200708T213507Z
LAST-MODIFIED:20200708T223700Z
UID:3914-1831827600-1831830300@ibew702.org
SUMMARY:Beardstown Unit Executive Committee Meeting
DESCRIPTION:The Beardstown Unit Executive Committee meeting is held for the specific properties that fall under the Beardstown Unit description in the Local 702 Bylaws. \nMeetings are attended by the Officers of the Beardstown Unit and are held on the 3rd Tuesday of each month\, beginning at 5:00 p.m. and are held at the UFCW Hall on Arenzville Road.
URL:https://ibew702.org/event/beardstown-unit-executive-committee-meeting-141/
END:VEVENT
BEGIN:VEVENT
DTSTART;TZID=America/Chicago:20280118T180000
DTEND;TZID=America/Chicago:20280118T193000
DTSTAMP:20260424T084104
CREATED:20200708T213506Z
LAST-MODIFIED:20200708T223700Z
UID:3913-1831831200-1831836600@ibew702.org
SUMMARY:Beardstown Unit Meeting
DESCRIPTION:General Membership meeting for any and all IBEW Local 702 members\, but specifically called through the Local 702 Bylaws for the members employed at properties that fall under Beardstown Unit description. \nMeetings are held on the 3rd Tuesday of each month\, beginning at 6:00 p.m. and are held at the UFCW Hall on Arenzville Road.
URL:https://ibew702.org/event/beardstown-unit-meeting-141/
END:VEVENT
BEGIN:VEVENT
DTSTART;TZID=America/Chicago:20280121T080000
DTEND;TZID=America/Chicago:20280121T120000
DTSTAMP:20260424T084104
CREATED:20200708T213506Z
LAST-MODIFIED:20200708T223700Z
UID:3912-1832054400-1832068800@ibew702.org
SUMMARY:West Frankfort Executive Board Meeting
DESCRIPTION:This is the regular monthly meeting of the Local Union?s Executive Board. \nMeetings are held on the 3rd Friday of every month\, beginning at 8:00 a.m. @ IBEW Local Union No. 702\, located at 106 N. Monroe\, West Frankfort\, IL.
URL:https://ibew702.org/event/west-frankfort-executive-board-meeting-140/
END:VEVENT
BEGIN:VEVENT
DTSTART;TZID=America/Chicago:20280124T170000
DTEND;TZID=America/Chicago:20280124T193000
DTSTAMP:20260424T084104
CREATED:20200708T213505Z
LAST-MODIFIED:20200708T223700Z
UID:3911-1832346000-1832355000@ibew702.org
SUMMARY:Evansville Unit Executive Committee Meeting
DESCRIPTION:The Evansville Unit Executive Committee meeting is held for the specific properties that fall under the Evansville Unit description in the Local 702 Bylaws. \nMeetings are attended by the Officers of the Evansville Unit and are held on the 4th Monday of each month\, beginning at 5:00 p.m. and are held at the CLC Office in Evansville\, IN.
URL:https://ibew702.org/event/evansville-unit-executive-committee-meeting-134/
END:VEVENT
END:VCALENDAR